BEGIN:VCALENDAR
VERSION:2.0
PRODID:-//Lepolan talo - ECPv6.15.20//NONSGML v1.0//EN
CALSCALE:GREGORIAN
METHOD:PUBLISH
X-ORIGINAL-URL:https://lepolantalo.fi
X-WR-CALDESC:Tapahtumat Lepolan talo
REFRESH-INTERVAL;VALUE=DURATION:PT1H
X-Robots-Tag:noindex
X-PUBLISHED-TTL:PT1H
BEGIN:VTIMEZONE
TZID:Europe/Helsinki
BEGIN:DAYLIGHT
TZOFFSETFROM:+0200
TZOFFSETTO:+0300
TZNAME:EEST
DTSTART:20250330T010000
END:DAYLIGHT
BEGIN:STANDARD
TZOFFSETFROM:+0300
TZOFFSETTO:+0200
TZNAME:EET
DTSTART:20251026T010000
END:STANDARD
BEGIN:DAYLIGHT
TZOFFSETFROM:+0200
TZOFFSETTO:+0300
TZNAME:EEST
DTSTART:20260329T010000
END:DAYLIGHT
BEGIN:STANDARD
TZOFFSETFROM:+0300
TZOFFSETTO:+0200
TZNAME:EET
DTSTART:20261025T010000
END:STANDARD
BEGIN:DAYLIGHT
TZOFFSETFROM:+0200
TZOFFSETTO:+0300
TZNAME:EEST
DTSTART:20270328T010000
END:DAYLIGHT
BEGIN:STANDARD
TZOFFSETFROM:+0300
TZOFFSETTO:+0200
TZNAME:EET
DTSTART:20271031T010000
END:STANDARD
END:VTIMEZONE
BEGIN:VEVENT
DTSTART;TZID=Europe/Helsinki:20260613T110000
DTEND;TZID=Europe/Helsinki:20260613T170000
DTSTAMP:20260420T085546
CREATED:20260323T093737Z
LAST-MODIFIED:20260323T093737Z
UID:4154-1781348400-1781370000@lepolantalo.fi
SUMMARY:Kuninkaan tyttärien kesäjuhla Lepolan Talolla
DESCRIPTION:Taas on aika auringon\, kun Kuninkaan tyttäret viettävät kesäpäivää Hausjärven Lepolan talolla 13.6. klo 13-17.\nKaikille naisille avoimessa tapahtumassa on tarjolla lounas\, ylistystä\, puheita\, Nainen kaivolla -myyntipöytä\, kahvit ja rukousta. Tilaisuuteen on 15€ vapaaehtoinen osallistumismaksu joka sisältää tarjoilut. Osallistumismaksu maksetaan paikan päällä käteisellä tai kortilla. \nTapaat tilaisuudessa Salme Blomsterin sekä tutut Kuninkaan tyttäret Mirja Ojareksen\, Erika Kuusilinnan ja Sari Palomäen. Päivä ei ole pelkkää istumista vaan myös yhteyttä\, kohtaamisia ja infoa. \nLepolan talolle Hausjärvelle pääsee joko omalla autolla tai yhteiskuljetuksella Pasilan tai Riihimäen asemalta. \nYhteiskuljetukseen on ilmoittauduttava\, jotta paikkoja riittää kaikille. Hinta on 25€ meno-paluu Pasilasta ja 15€ meno-paluu Riihimäen asemalta. Bussi lähtee klo 11.15 Pasilasta Hotelli Triplan edestä ja noin klo 12 Riihimäeltä linja-autoasemalta. Paluukyyti lähtee Lepolasta klo 17.30 kohti Riihimäkeä ja Pasilaa. \nIlmoittaudu mukaan tapahtumaan bussikyytiä ja tarjoiluja varten viimeistään 29.5.\nSähköpostilla kuninkaantyttaret.info@gmail.com tai soittamalla 044 7675194 (ti\, to 10-18\, ke 10-16). \nwww.kuninkaantyttaret.fi
URL:https://lepolantalo.fi/tapahtumat/kuninkaan-tyttarien-kesajuhla-lepolan-talolla/
LOCATION:Lepolan Talo\, Kappalaisentie 49\, Hausjärvi\, 12210\, Suomi
ATTACH;FMTTYPE=image/jpeg:https://lepolantalo.fi/wp/wp-content/uploads/2026/03/WhatsApp-Image-2026-03-23-at-11.26.23.jpeg
ORGANIZER;CN="Kuninkaan tytt%C3%A4ret ry":MAILTO:kuninkaantyttaret.info@gmail.com
END:VEVENT
BEGIN:VEVENT
DTSTART;TZID=Europe/Helsinki:20260905T180000
DTEND;TZID=Europe/Helsinki:20260905T200000
DTSTAMP:20260420T085546
CREATED:20260114T115455Z
LAST-MODIFIED:20260323T093843Z
UID:4141-1788631200-1788638400@lepolantalo.fi
SUMMARY:Eve & Ossi ja Juhani Tikkanen -konsertti
DESCRIPTION:  \nKauniisti soivista äänistään sekä herkistä tulkinnoistaan tunnettu duo Eve & Ossi ja laulaja-lauluntekijä Juhani Tikkanen toteuttavat syyskuussa 2026 yhteiskiertueen. Konsertit kutsuvat yleisön idyllisiin maisemiin kuudelle eri paikkakunnalle. Harvinainen kahden artistin kiertue tarjoaa avoimuutta\, herkkyyttä ja taidokasta musiikkia. \n“On erityisen innostavaa lähteä suuresti arvostamamme muusikon sekä hyvän ystävämme Juhanin kanssa kiertueelle. Juhanilla on erityinen taito kuljettaa yleisöä sekä kohti iloa ja naurua kuin viedä syvän lohdunkin äärelle. Meissä on paljon samaa\, ja samalla uskon\, että konsertissa kuullaan hienosti toisiaan täydentävät Eve & Ossi sekä Juhani Tikkanen\,” lauluntekijä Ossi Mäki-Reini kuvaa.  \nErityisen kiertueesta tekee esiintymispaikat\, jotka on valittu kiertueen tunnelmaan sopivasti kauniisiin ja idyllisiin maisemiin. Esiintymispaikka muun muassa  kartanomainen Lepolan Talo\, jossa on konsertin yhteydessä kahvila\, johon pääsee ostoksille ennen konserttia sekä väliajan aikana. \n“Olemme olleet Spotifyssa jo vuosia seuraajiemme seuraavaksi eniten kuuntelemia artisteja. Keskenämme olemme siitä heittäneet vitsiäkin\, mutta lopulta puheet johtivat yhteisen kiertueen toteuttamiseen. On upeaa\, miten kaikki musiikista\, tiloista ja tarjoiluista lähtien on suunnattu palvelemaan yleisöä parhaalla tavalla\,” Juhani Tikkanen lisää. \n 
URL:https://lepolantalo.fi/tapahtumat/eve-ossi-ja-juhani-tikkanen-konsertti/
LOCATION:Lepolan Talo\, Kappalaisentie 49\, Hausjärvi\, 12210\, Suomi
ATTACH;FMTTYPE=image/jpeg:https://lepolantalo.fi/wp/wp-content/uploads/2026/01/EveOssi_Juhani_Tikkanen_yhteiskiertue_2026_UUTINEN_1920x1080.jpg
ORGANIZER;CN="Lahtisen Juhlatilat Oy":MAILTO:info@lepolantalo.fi
END:VEVENT
END:VCALENDAR