BEGIN:VCALENDAR
VERSION:2.0
PRODID:-//Lepolan talo - ECPv6.15.20//NONSGML v1.0//EN
CALSCALE:GREGORIAN
METHOD:PUBLISH
X-ORIGINAL-URL:https://lepolantalo.fi
X-WR-CALDESC:Tapahtumat Lepolan talo
REFRESH-INTERVAL;VALUE=DURATION:PT1H
X-Robots-Tag:noindex
X-PUBLISHED-TTL:PT1H
BEGIN:VTIMEZONE
TZID:Europe/Helsinki
BEGIN:DAYLIGHT
TZOFFSETFROM:+0200
TZOFFSETTO:+0300
TZNAME:EEST
DTSTART:20200329T010000
END:DAYLIGHT
BEGIN:STANDARD
TZOFFSETFROM:+0300
TZOFFSETTO:+0200
TZNAME:EET
DTSTART:20201025T010000
END:STANDARD
BEGIN:DAYLIGHT
TZOFFSETFROM:+0200
TZOFFSETTO:+0300
TZNAME:EEST
DTSTART:20210328T010000
END:DAYLIGHT
BEGIN:STANDARD
TZOFFSETFROM:+0300
TZOFFSETTO:+0200
TZNAME:EET
DTSTART:20211031T010000
END:STANDARD
BEGIN:DAYLIGHT
TZOFFSETFROM:+0200
TZOFFSETTO:+0300
TZNAME:EEST
DTSTART:20220327T010000
END:DAYLIGHT
BEGIN:STANDARD
TZOFFSETFROM:+0300
TZOFFSETTO:+0200
TZNAME:EET
DTSTART:20221030T010000
END:STANDARD
BEGIN:DAYLIGHT
TZOFFSETFROM:+0200
TZOFFSETTO:+0300
TZNAME:EEST
DTSTART:20230326T010000
END:DAYLIGHT
BEGIN:STANDARD
TZOFFSETFROM:+0300
TZOFFSETTO:+0200
TZNAME:EET
DTSTART:20231029T010000
END:STANDARD
BEGIN:DAYLIGHT
TZOFFSETFROM:+0200
TZOFFSETTO:+0300
TZNAME:EEST
DTSTART:20240331T010000
END:DAYLIGHT
BEGIN:STANDARD
TZOFFSETFROM:+0300
TZOFFSETTO:+0200
TZNAME:EET
DTSTART:20241027T010000
END:STANDARD
BEGIN:DAYLIGHT
TZOFFSETFROM:+0200
TZOFFSETTO:+0300
TZNAME:EEST
DTSTART:20250330T010000
END:DAYLIGHT
BEGIN:STANDARD
TZOFFSETFROM:+0300
TZOFFSETTO:+0200
TZNAME:EET
DTSTART:20251026T010000
END:STANDARD
BEGIN:DAYLIGHT
TZOFFSETFROM:+0200
TZOFFSETTO:+0300
TZNAME:EEST
DTSTART:20260329T010000
END:DAYLIGHT
BEGIN:STANDARD
TZOFFSETFROM:+0300
TZOFFSETTO:+0200
TZNAME:EET
DTSTART:20261025T010000
END:STANDARD
BEGIN:DAYLIGHT
TZOFFSETFROM:+0200
TZOFFSETTO:+0300
TZNAME:EEST
DTSTART:20270328T010000
END:DAYLIGHT
BEGIN:STANDARD
TZOFFSETFROM:+0300
TZOFFSETTO:+0200
TZNAME:EET
DTSTART:20271031T010000
END:STANDARD
END:VTIMEZONE
BEGIN:VEVENT
DTSTART;TZID=Europe/Helsinki:20260117T100000
DTEND;TZID=Europe/Helsinki:20260117T180000
DTSTAMP:20260420T011828
CREATED:20251219T115653Z
LAST-MODIFIED:20260106T094903Z
UID:4127-1768644000-1768672800@lepolantalo.fi
SUMMARY:Kristittyjen yhteinen rukouspäivä - Että he yhtä olisivat
DESCRIPTION:Kristittyjen yhteinen rukouspäivä teemalla Että he yhtä olisivat on kansallisena rukouspäivänä Lepolan Talolla toista kertaa. \nPäivän aikana saamme kuulla eri seurakunnista terveisiä\, mitä Jumala tekee eri puolilla Suomea ja Hämettä. \nTapahtumassa kerätään vapaaehtoinen kolehti. \nLisätietoja tapahtumasta tästä linkistä Että he yhtä olisivat 17.1.2026 
URL:https://lepolantalo.fi/tapahtumat/kristittyjen-yhteinen-rukouspaiva-etta-he-yhta-olisivat/
LOCATION:Lepolan Talo\, Kappalaisentie 49\, Hausjärvi\, 12210\, Suomi
CATEGORIES:Kristilliset tapahtumat
ATTACH;FMTTYPE=image/jpeg:https://lepolantalo.fi/wp/wp-content/uploads/2025/12/IMG_20251219_134244-scaled.jpg
ORGANIZER;CN="Lepolan Majatalon Yst%C3%A4v%C3%A4t ry":MAILTO:lepolanmajatalonystavat@gmail.com
END:VEVENT
BEGIN:VEVENT
DTSTART;TZID=Europe/Helsinki:20211128T120000
DTEND;TZID=Europe/Helsinki:20211128T160000
DTSTAMP:20260420T011828
CREATED:20210725T133526Z
LAST-MODIFIED:20210725T134652Z
UID:2829-1638100800-1638115200@lepolantalo.fi
SUMMARY:Köyhäintalon Menu esittäytyy
DESCRIPTION:Uniikki elämys ruoan äärellä – viiden ruokalajin menu. Mikä parasta – olet syömällä tekemässä hyvää!\nTeema Brunssin kattaus ja ruokalajien nimet ovat 1900-luvun alun tapaan. Tarina ohjaa ruokaa noudettaessa.\nElämä ja kokemus jatkavat kertomusta omaa tarinaansa.\nAuttaessasi saat- maukkaan historiaa huokuvan menukokonaisuuden. Maut ovat tuttuja!\nSaat tuulahduksen historiallisesta 1900-luvun alun Lepolan Talosta\, joka oli aikanaan Waiwaistalo ja Köyhäintalo. \n  \nLepolan Talon historia suorastaan pyytää auttamaan! \nHaluamme Tehdä Hyvää omalta puoleltamme – Tulethan mukaan auttamaan! \nOstaessasi Waiwaistalon menun tai Köyhäintalon menun olet mukana auttamassa. \nJoka annoksesta lyhentämättömänä tilitämme 10% hausjärveläisille avun tarvitsijoille. \n  \nMenu löytyy täältä Köyhäintalon menu \nLisätietoja Syö & auta – Lepolan talo
URL:https://lepolantalo.fi/tapahtumat/koyhaintalon-menu-esittaytyy/
LOCATION:Lepolan Talo\, Kappalaisentie 49\, Hausjärvi\, 12210\, Suomi
ATTACH;FMTTYPE=image/jpeg:https://lepolantalo.fi/wp/wp-content/uploads/2021/05/koyhaintalo.jpg
ORGANIZER;CN="Lahtisen Juhlatilat Oy":MAILTO:info@lepolantalo.fi
END:VEVENT
BEGIN:VEVENT
DTSTART;TZID=Europe/Helsinki:20211114T113000
DTEND;TZID=Europe/Helsinki:20211114T163000
DTSTAMP:20260420T011828
CREATED:20210725T133130Z
LAST-MODIFIED:20210919T092530Z
UID:2825-1636889400-1636907400@lepolantalo.fi
SUMMARY:Isänpäivä Lounas
DESCRIPTION:Lepolan Talon seisovapöytä on katettu kaikille Isille ja Isoisille – Kaikille\, jotka haluavat vaikka muistella Isää! \nSe tulee sisältämään monenlaisia herkkuja reilusta salaattipöydästä maukkaisiin lämpimiin ruokiin. Kaiken kruunaa Lepolan Talon kakut. \n  \nklo 11.30-13.30 ja 14.30-16.30 Kaksi kattausta \nLounaan varaukset: puh. 050 3070 101 tai myynti(at)lepolantalo.fi \nTARJOUS: 26€ isät\, 30€ aikuiset\, 15€ 4-12 v. lapset \n Menu:\nSalaattipöytä:\nSavukassler LG \nRuusukaalisalaatti GV \nMarinoituja savumuikkuja LG \nKylmäsavulohta LG \nSillikaviaaria LG \nKurpitsa-kaura-juustosalaatti LG* \nTalon perunasalaatti GV \nVihreäsalaatti GV \nTomaatteja GV \n  \nPääruoka:\nBroileria Talon tapaan LG \nPunajuuri-sienivuoka LG* \nKaritsan makkarat LG \nLohkoperunat GV \nTalon Chutneyt GV \n  \nJuomat:\nVettä \nMuut juomat Lepolan Talon juomalistalta \n  \nJälkiruoka:\nTalon vege kuppikakut GV \nSuklaa-kirsikka-juustokakku LG \nHedelmäkermakakku LG \nKahvia / teetä / Mehua \n  \n*saatavilla myös vegaaneille omat vaihtoehdot erikseen tilattaessa \n  \nLihan alkuperä on kotimainen – Niin läheltä kuin mahdollista! \n 
URL:https://lepolantalo.fi/tapahtumat/isanpaiva-lounas/
LOCATION:Lepolan Talo\, Kappalaisentie 49\, Hausjärvi\, 12210\, Suomi
ORGANIZER;CN="Lahtisen Juhlatilat Oy":MAILTO:info@lepolantalo.fi
END:VEVENT
BEGIN:VEVENT
DTSTART;TZID=Europe/Helsinki:20211003T120000
DTEND;TZID=Europe/Helsinki:20211003T160000
DTSTAMP:20260420T011828
CREATED:20210725T132736Z
LAST-MODIFIED:20210725T132736Z
UID:2818-1633262400-1633276800@lepolantalo.fi
SUMMARY:Waiwaistalon Menu esittäytyy
DESCRIPTION:Uniikki elämys ruoan äärellä – viiden ruokalajin menu. Mikä parasta – olet syömällä tekemässä hyvää!\nTeema Brunssin kattaus ja ruokalajien nimet ovat 1900-luvun alun tapaan. Tarina ohjaa ruokaa noudettaessa.\nElämä ja kokemus jatkavat kertomusta omaa tarinaansa.\nAuttaessasi saat- maukkaan historiaa huokuvan menukokonaisuuden. Maut ovat tuttuja! \nSaat tuulahduksen historiallisesta 1900-luvun alun Lepolan Talosta\, joka oli aikanaan Waiwaistalo ja Köyhäintalo. \n  \nLepolan Talon historia suorastaan pyytää auttamaan! \nHaluamme Tehdä Hyvää omalta puoleltamme – Tulethan mukaan auttamaan! \nOstaessasi Waiwaistalon menun tai Köyhäintalon menun olet mukana auttamassa. \nJoka annoksesta lyhentämättömänä tilitämme 10% hausjärveläisille avun tarvitsijoille. \n  \nMenu löytyy täältä Waiwaistalon menu \nLisätietoja Syö & auta – Lepolan talo
URL:https://lepolantalo.fi/tapahtumat/waiwaistalon-menu-esittaytyy/
LOCATION:Lepolan Talo\, Kappalaisentie 49\, Hausjärvi\, 12210\, Suomi
ATTACH;FMTTYPE=image/jpeg:https://lepolantalo.fi/wp/wp-content/uploads/2017/01/15826008_610946012426861_1931042752732188574_n-1.jpg
ORGANIZER;CN="Lahtisen Juhlatilat Oy":MAILTO:info@lepolantalo.fi
END:VEVENT
BEGIN:VEVENT
DTSTART;TZID=Europe/Helsinki:20210509T113000
DTEND;TZID=Europe/Helsinki:20210509T163000
DTSTAMP:20260420T011828
CREATED:20210413T133650Z
LAST-MODIFIED:20210416T100544Z
UID:2644-1620559800-1620577800@lepolantalo.fi
SUMMARY:Äitienpäivä
DESCRIPTION:Nyt on aika juhlia Äitejä! \nLepolan Talon tapaan on saatavilla juhlavat herkut ja maistuvat kakut Äitienpäivän kunniaksi. \nÄitienpäivän menun löydät täältä Äitienpäivälounas 9.5.2021 \n  \nPöytävaraukset ovat tärkeitä. Valtioneuvosto on antanut rajoituksen puolet asiakaspaikoista. Lepolan Talolle voi tulla ruokailemaan 93 asiakasta kerrallaan. Näin varmistamme turvallista ja terveyttä edistävää nautittavaa Äitienpäivää jokaiselle! \n \nOn mitä odottaa! Varmista paikkasi ajoissa!
URL:https://lepolantalo.fi/tapahtumat/aitienpaiva/
LOCATION:Lepolan Talo\, Kappalaisentie 49\, Hausjärvi\, 12210\, Suomi
ORGANIZER;CN="Lahtisen Juhlatilat Oy":MAILTO:info@lepolantalo.fi
END:VEVENT
END:VCALENDAR